BEGIN:VCALENDAR
VERSION:2.0
PRODID:-//Trekk in Portugal - ECPv6.10.1.1//NONSGML v1.0//EN
CALSCALE:GREGORIAN
METHOD:PUBLISH
X-ORIGINAL-URL:https://www.trekkin.pt
X-WR-CALDESC:Events for Trekk in Portugal
REFRESH-INTERVAL;VALUE=DURATION:PT1H
X-Robots-Tag:noindex
X-PUBLISHED-TTL:PT1H
BEGIN:VTIMEZONE
TZID:UTC
BEGIN:STANDARD
TZOFFSETFROM:+0000
TZOFFSETTO:+0000
TZNAME:UTC
DTSTART:20240101T000000
END:STANDARD
END:VTIMEZONE
BEGIN:VEVENT
DTSTART;TZID=UTC:20240915T100000
DTEND;TZID=UTC:20240915T180000
DTSTAMP:20260423T062152
CREATED:20240619T212214Z
LAST-MODIFIED:20240916T121119Z
UID:1179-1726394400-1726423200@www.trekkin.pt
SUMMARY:Fraga das Pastorinhas
DESCRIPTION:Percurso:\n\n\n\n\n\n\n\nA mítica parede da Fraga das Pastorinhas com passagem por Águas Santas. A Fraga das Pastorinhas é dos mais espetaculares miradouros de todo o Parque Nacional Peneda Gerês\, possivelmente uma das zonas menos conhecidas.A esplendorosa parede de 400 metros\, com o vale do Rio Peneda no seu fundo\, as vistas para Olelas\, Quinxo\, Alto da Pedrada são deslumbrantes.De acordo com a lenda o seu nome provêm de uma queda do seu topo em tempos idos de duas irmãs pastoras. O percurso tem como o ponto de inicio o Santuário da Nossa Senhora da Peneda\, passando por alguns dos locais mais desconhecidos da Serra\, pequenos prados com aspecto alpino\, cabanas de pastores perdidas no meio de uma imensidão granítica. \n\n\n\n\n\n\n\nCaracterísticas: Circular\n\n\n\n\n\n\n\nDistânciaDesnivel +Duração18 km910 mts8 hrs\n\n\n\n\n\n\n\n\n\n\n\n\n\n\n\nGuia:\n\n\n\n\n\n\n\nNome: Ricardo FerreiraTel : +351 919 679 004 \n\n\n\n\n\n\n\nPonto de encontro:\n\n\n\n\n\n\n\nSantuário Nossa Senhora da PenedaN202Peneda4970-150 Gavieira41\,97374° N\, 8\,22328° O \n\n\n\n\n\n\n\n\n\nNavegar com: \n\n\n\n\n\n\n\n\n\n\n\n\n\n\n\n\n\n\n\n\n\nDeve levar:\n\n\n\n\n\n\n\n\nÁgua.\n\n\n\nAlimentação.\n\n\n\nVestuario apropriado às condições climatéricas.\n\n\n\nCalçado apropriado para caminhada em Montanha.\n\n\n\n\n\n\n\n\nReservas:\n\n\n\n\n\n\n\n\n\n\n\n\n\n\n\nInclui: \n\n\n\n\nGuia no terreno.\n\n\n\nSeguro de acidentes pessoais.\n\n\n\nSeguro de Responsabilidade Civil.\n\n\n\n\n\n\nNão Inclui: \n\n\n\n\nTransporte até ao ponto de encontro.\n\n\n\nOutros não especificamente descritos como incluído.\n\n\n\n\n\n\n\n\nExtras:
URL:https://www.trekkin.pt/evento/fraga-das-pastorinhas/
CATEGORIES:Caminhada 1 dia
ATTACH;FMTTYPE=image/webp:https://www.trekkin.pt/wp-content/uploads/2024/06/IMG_5782.webp
END:VEVENT
BEGIN:VEVENT
DTSTART;TZID=UTC:20240928T143000
DTEND;TZID=UTC:20240928T230000
DTSTAMP:20260423T062153
CREATED:20240830T192351Z
LAST-MODIFIED:20240927T185555Z
UID:2032-1727533800-1727564400@www.trekkin.pt
SUMMARY:Sunset na Pedra Alçada
DESCRIPTION:Descrição:\n\n\n\n\n\n\n\nJá se imaginou a assistir ao pôr do sol no topo da serra debaixo do céu estrelado com pano de fundo o oceano Atlântico e o rio Minho?O trekking inicia-se na aldeia de Arga de São João e se desenvolvera pela tarde por entre fantásticos bosques\, rios e ribeiros com passagem pelo belíssimo mosteiro de São João até ao topo da Serra\, com varias paragens para refrescar e lanche\, chegaremos ao local para assistir ao belíssimo por do sol que o local nos proporciona!Após o pôr do sol\, desceremos por um caminho de terra batida acompanhados das lanternas que iremos fazer da altura do dia algo especial! Caminharemos pela noite e com uma cobertura de estrelas!Será uma caminhada memorável\, trás aquela pessoa especial para partilhar este momento único! \n\n\n\n\n\n\n\nCaracterísticas: Circular\n\n\n\n\n\n\n\n\n\n\n\n\n\n\n\n\n\n\n\nGuia:\n\n\n\n\n\n\n\nNome: Ricardo FerreiraTel : +351 919 679 004 \n\n\n\n\n\n\n\nPonto de encontro:\n\n\n\n\n\n\n\nIgreja Paroquial de Arga de São João4910-186 Arga de São João41\,84826° N\, 8\,75074° O \n\n\n\n\n\n\n\n\n\nNavegar com: \n\n\n\n\n\n\n\n\n\n\n\n\n\n\n\n\n\n\n\n\n\nDeve levar:\n\n\n\n\n\n\n\n\nÁgua.\n\n\n\nAlimentação.\n\n\n\nVestuario apropriado às condições climatéricas.\n\n\n\nCalçado apropriado para caminhada em Montanha.\n\n\n\n\n\n\n\n\nReservas:\n\n\n\n\n\n\n\n\n\n\n\n\n\n\n\nInclui: \n\n\n\n\nGuia no terreno.\n\n\n\nSeguro de acidentes pessoais.\n\n\n\nSeguro de Responsabilidade Civil.\n\n\n\nRegisto fotográfico\n\n\n\n\n\n\nNão Inclui: \n\n\n\n\nTransporte até ao ponto de encontro.\n\n\n\nOutros não especificamente descritos como incluído.\n\n\n\n\n\n\n\n\n\n\n\n\nExtras:\n\n\n\n\n\n\n\n\n\n\n\n\n\n\n\n\n        Convidar um amigo  \n  \n  
URL:https://www.trekkin.pt/evento/sunset-na-pedra-alcada/
CATEGORIES:Caminhada 1 dia
ATTACH;FMTTYPE=image/webp:https://www.trekkin.pt/wp-content/uploads/2024/08/IMG_8568.webp
END:VEVENT
END:VCALENDAR