BEGIN:VCALENDAR
VERSION:2.0
PRODID:-//Trekk in Portugal - ECPv6.10.1.1//NONSGML v1.0//EN
CALSCALE:GREGORIAN
METHOD:PUBLISH
X-WR-CALNAME:Trekk in Portugal
X-ORIGINAL-URL:https://www.trekkin.pt
X-WR-CALDESC:Events for Trekk in Portugal
REFRESH-INTERVAL;VALUE=DURATION:PT1H
X-Robots-Tag:noindex
X-PUBLISHED-TTL:PT1H
BEGIN:VTIMEZONE
TZID:Europe/Paris
BEGIN:DAYLIGHT
TZOFFSETFROM:+0100
TZOFFSETTO:+0200
TZNAME:CEST
DTSTART:20250330T010000
END:DAYLIGHT
BEGIN:STANDARD
TZOFFSETFROM:+0200
TZOFFSETTO:+0100
TZNAME:CET
DTSTART:20251026T010000
END:STANDARD
END:VTIMEZONE
BEGIN:VEVENT
DTSTART;TZID=Europe/Paris:20250209T093000
DTEND;TZID=Europe/Paris:20250209T173000
DTSTAMP:20260422T230758
CREATED:20241220T103125Z
LAST-MODIFIED:20250210T091943Z
UID:2905-1739093400-1739122200@www.trekkin.pt
SUMMARY:Val de Moscas
DESCRIPTION:Descrição:\n\n\n\n\n\n\n\nOutrora designada por Val de Moscas\, Moscoso encontra-se num dos locais mais belos da Serra da Cabreira\, o “Nariz do Mundo”. Este local\, chamava-se há cerca de 60/70 anos\, Picoto do Crasto\, que um senhor de nome Albino\, decidiu rebatizar e a partir dai ficou conhecido por “Nariz do Mundo”. Moscoso reúne assim condições propícias à pesca\, à caça\, à pecuária e à agricultura. O artesanato\, o património edificado que possui\, a tasquinha\, trilhos pedestres e escalada\, constituem motivos de atracção a esta localidade onde subsiste a tradição de regar as vacas com água na manhã de 24 de Junho\, antes do sol nascer\, para afugentar o mau olhado. \n\n\n\n\n\n\n\nCaracterísticas: Circular\n\n\n\n\n\n\n\n\n\n\n\n\n\n\n\n\n\n\n\nGuia:\n\n\n\n\n\n\n\nNome: Ricardo FerreiraTel : +351 919 679 004 \n\n\n\n\n\n\n\nPonto de encontro:\n\n\n\n\n\n\n\nAdega Regional Nariz do MundoM519-14860 Moscoso41\,58332° N\, 7\,92542° O \n\n\n\n\n\n\n		\n        \n        \n\n\n\n\n\n\n\n\nNavegar com: \n\n\n\n\n\n\n\n\n\n\n\n\n\n\n\n\n\n\n\n\n\nDeve levar:\n\n\n\n\n\n\n\n\nÁgua.\n\n\n\nAlimentação.\n\n\n\nVestuario apropriado às condições climatéricas.\n\n\n\nCalçado apropriado para caminhada em Montanha.\n\n\n\n\n\n\n\n\nReservas:\n\n\n\n\n\n\n\n\n\n\n\n\n\n\n\nInclui: \n\n\n\n\nGuia no terreno.\n\n\n\nSeguro de acidentes pessoais.\n\n\n\nSeguro de Responsabilidade\n\n\n\nCafé e sobremesa\n\n\n\nRecordação de grupo\n\n\n\nRegisto fotográfico\n\n\n\n\n\n\nNão Inclui: \n\n\n\n\nTransporte até ao ponto de encontro.\n\n\n\nOutros não especificamente descritos como incluído.\n\n\n\n\n\n\n\n\nTransporte:\n\n\n\n\n\n\n\nESGOTADO\n\n\n\n\n\n\n\n\n\n\n\n\n\n\n        Convidar um amigo  \n  \n  
URL:https://www.trekkin.pt/evento/val-de-moscas/
CATEGORIES:Caminhada 1 dia
ATTACH;FMTTYPE=image/webp:https://www.trekkin.pt/wp-content/uploads/2024/12/IMG_0135.webp
END:VEVENT
BEGIN:VEVENT
DTSTART;TZID=Europe/Paris:20250215T090000
DTEND;TZID=Europe/Paris:20250215T170000
DTSTAMP:20260422T230758
CREATED:20250103T154428Z
LAST-MODIFIED:20250216T150631Z
UID:2966-1739610000-1739638800@www.trekkin.pt
SUMMARY:Pico da Nevosa
DESCRIPTION:Descrição:\n\n\n\n\n\n\n\nNada mais que uma caminhada que o levará ao ponto mais alto do Parque Nacional Peneda Gerês.Parte connosco nesta aventura\, caminhando pelos vales\, brandas e currais deste belo parque\, este trajecto vais nos proporcionar lindíssimas paisagens dignas de obras de arte naturais\, ricas de fauna e flora autóctone da região!Atreve-te\, supera-te\, e conquista o objectivo do grupo! Os 1546 mts do Pico da Nevosa\, e uma curta estadia no seu magnifico cadeirão\, onde poderás contemplar com a elevada resolução da visão\, todo o esplendor do PNPG! \n\n\n\n\n\n\n\nCaracterísticas: Circular\n\n\n\n\n\n\n\n\n\n\n\n\n\n\n\n\n\n\n\nGuia:\n\n\n\n\n\n\n\nNome: Ricardo FerreiraTel : +351 919 679 004 \n\n\n\n\n\n\n\nPonto de encontro:\n\n\n\n\n\n\n\nN3085470 Outeiro41\,77964° N\, 7\,99489° O \n\n\n\n\n\n\n		\n        \n        \n\n\n\n\n\n\n\n\nNavegar com: \n\n\n\n\n\n\n\n\n\n\n\n\n\n\n\n\n\n\n\n\n\nDeve levar:\n\n\n\n\n\n\n\n\nÁgua.\n\n\n\nAlimentação.\n\n\n\nVestuario apropriado às condições climatéricas.\n\n\n\nCalçado apropriado para caminhada em Montanha.\n\n\n\n\n\n\n\n\nReservas:\n\n\n\n\n\n\n\n\n\n\n\n\n\n\n\nInclui: \n\n\n\n\nGuia no terreno.\n\n\n\nSeguro de acidentes pessoais.\n\n\n\nSeguro de Responsabilidade\n\n\n\nCafé e sobremesa\n\n\n\nRecordação de grupo\n\n\n\nRegisto fotográfico\n\n\n\n\n\n\nNão Inclui: \n\n\n\n\nTransporte até ao ponto de encontro.\n\n\n\nOutros não especificamente descritos como incluído.\n\n\n\n\n\n\n\n\nTransporte:\n\n\n\n\n\n\n\n\n\n\n\n\n\n\n\n\n\n\n\n\n        Convidar um amigo  \n  \n  
URL:https://www.trekkin.pt/evento/pico-da-nevosa/
CATEGORIES:Caminhada 1 dia
ATTACH;FMTTYPE=image/webp:https://www.trekkin.pt/wp-content/uploads/2025/01/DJI_20241222_120219_571.webp
END:VEVENT
BEGIN:VEVENT
DTSTART;TZID=Europe/Paris:20250223T090000
DTEND;TZID=Europe/Paris:20250223T180000
DTSTAMP:20260422T230758
CREATED:20241128T103017Z
LAST-MODIFIED:20250226T180647Z
UID:2795-1740301200-1740333600@www.trekkin.pt
SUMMARY:Hardtrekking de Pincães
DESCRIPTION:Descrição:\n\n\n\n\n\n\n\nContinuando a senda dos maravilhosos e desafiantes HardTrekkings da Trekkin… o proximo terá lugar em Terras de Barroso\, e escolhido a dedo pelos melhores trilhos da Serra passando por locais magnificos\, visitando Fojos\, Silhas e no Final uma lindíssima cascata para refrescar!!Estás preparado para o segundo de quatro dos mais belos Hardtrekkings de Portugal?Esta serie será limitada a 10 participantes em cada edição! \n\n\n\n\n\n\n\nCaracterísticas: Circular\n\n\n\n\n\n\n\n\n\n\n\n\n\n\n\n\n\n\n\nGuia:\n\n\n\n\n\n\n\nNome: Ricardo FerreiraTel : +351 919 679 004 \n\n\n\n\n\n\n\nPonto de encontro:\n\n\n\n\n\n\n\nParque estacionamentoRua de Nossa Sra da Abadia 105470-020 Cabril41\,70663° N\, 8\,05104° O \n\n\n\n\n\n\n		\n        \n        \n\n\n\n\n\n\n\n\nNavegar com: \n\n\n\n\n\n\n\n\n\n\n\n\n\n\n\n\n\n\n\n\n\nDeve levar:\n\n\n\n\n\n\n\n\nÁgua.\n\n\n\nAlimentação.\n\n\n\nVestuario apropriado às condições climatéricas.\n\n\n\nCalçado apropriado para caminhada em Montanha.\n\n\n\n\n\n\n\n\nReservas:\n\n\n\n\n\n\n\n\n\n\n\n\n\n\n\nInclui: \n\n\n\n\nGuia no terreno.\n\n\n\nSeguro de acidentes pessoais.\n\n\n\nSeguro de Responsabilidade\n\n\n\nRecordação de grupo\n\n\n\nRegisto fotográfico\n\n\n\n\n\n\nNão Inclui: \n\n\n\n\nTransporte até ao ponto de encontro.\n\n\n\nOutros não especificamente descritos como incluído.\n\n\n\n\n\n\n\n\nTransporte:\n\n\n\n\n\n\n\n\n\n\n\n\n\nOnde ficar:\n\n\n\n\n\n\n\nVisitar a Casa Colina\n\n\n\n\n\n\n\n\n\n\n\n\n\nVisitar a Casa Lobos\n\n\n\n\n\n\n\n\n\n\n\n\n        Convidar um amigo  \n  \n  
URL:https://www.trekkin.pt/evento/hardtrekking-de-pincaes/
CATEGORIES:Caminhada 1 dia
ATTACH;FMTTYPE=image/webp:https://www.trekkin.pt/wp-content/uploads/2024/11/DJI_20241127_163933_163.webp
END:VEVENT
END:VCALENDAR