BEGIN:VCALENDAR
VERSION:2.0
PRODID:-//Trekk in Portugal - ECPv6.10.1.1//NONSGML v1.0//EN
CALSCALE:GREGORIAN
METHOD:PUBLISH
X-ORIGINAL-URL:https://www.trekkin.pt
X-WR-CALDESC:Events for Trekk in Portugal
REFRESH-INTERVAL;VALUE=DURATION:PT1H
X-Robots-Tag:noindex
X-PUBLISHED-TTL:PT1H
BEGIN:VTIMEZONE
TZID:UTC
BEGIN:STANDARD
TZOFFSETFROM:+0000
TZOFFSETTO:+0000
TZNAME:UTC
DTSTART:20240101T000000
END:STANDARD
END:VTIMEZONE
BEGIN:VEVENT
DTSTART;TZID=UTC:20240714T100000
DTEND;TZID=UTC:20240714T180000
DTSTAMP:20260423T120740
CREATED:20240613T182200Z
LAST-MODIFIED:20240708T194455Z
UID:529-1720951200-1720980000@www.trekkin.pt
SUMMARY:Lagoa da Peneda
DESCRIPTION:Percurso:\n\n\n\n\n\n\n\nEsta caminhada vai nos levar a um dos pontos mais elevados da Serra do Soajo. Iremos percorrer 13kms acompanhados por calçadas\, trilhos\, ribeiros e uma magnifica lagoa!Vem dai fazer este trilho e desfrutar dos sons da natureza na lagoa da Peneda!Iniciaremos esta aventura nas imediações da aldeia da Bouça dos Homens onde iremos começar a ascensão da encosta\, até ao nosso primeiro objectivo\, o Outeiro Alvo\, por trilhos e calçadas acompanhados por rios\, ribeiros e carvalhais\, até atingir o ponto alto da caminhada\, a magnifica lagoa da Peneda\, onde iremos parar no lindíssimo local para um breve descanso antes de iniciarmos ao restante percurso\, certamente fará as delicias deste trilho até ao final. \n\n\n\n\n\n\n\nCaracterísticas: Circular\n\n\n\n\n\n\n\nDistânciaDesnivel +Duração12\,9 km790 mts8 hrs\n\n\n\n\n\n\n\n\n\n\n\n\n\n\n\nGuia:\n\n\n\n\n\n\n\nNome: Ricardo FerreiraTel : +351 919 679 004 \n\n\n\n\n\n\n\nPonto de encontro:\n\n\n\n\n\n\n\n4970 Gavieira41\,99871° N\, 8\,24242° O \n\n\n\n\n\n\n\n\n\nNavegar com: \n\n\n\n\n\n\n\n\n\n\n\n\n\n\n\n\n\n\n\n\n\nDeve levar:\n\n\n\n\n\n\n\n\nÁgua.\n\n\n\nAlimentação.\n\n\n\nVestuario apropriado às condições climatéricas.\n\n\n\nCalçado apropriado para caminhada em Montanha.\n\n\n\n\n\n\n\n\nReservas:\n\n\n\n\n\n\n\n\n\n\n\n\n\n\n\nInclui: \n\n\n\n\nGuia no terreno.\n\n\n\nSeguro de acidentes pessoais.\n\n\n\nSeguro de Responsabilidade Civil.\n\n\n\n\n\n\nNão Inclui: \n\n\n\n\nTransporte até ao ponto de encontro.\n\n\n\nOutros não especificamente descritos como incluído.
URL:https://www.trekkin.pt/evento/lagoa-da-peneda/
CATEGORIES:Caminhada 1 dia
ATTACH;FMTTYPE=image/webp:https://www.trekkin.pt/wp-content/uploads/2024/06/IMG_5105.webp
END:VEVENT
END:VCALENDAR