BEGIN:VCALENDAR
VERSION:2.0
PRODID:-//Trekk in Portugal - ECPv6.10.1.1//NONSGML v1.0//EN
CALSCALE:GREGORIAN
METHOD:PUBLISH
X-ORIGINAL-URL:https://www.trekkin.pt
X-WR-CALDESC:Events for Trekk in Portugal
REFRESH-INTERVAL;VALUE=DURATION:PT1H
X-Robots-Tag:noindex
X-PUBLISHED-TTL:PT1H
BEGIN:VTIMEZONE
TZID:UTC
BEGIN:STANDARD
TZOFFSETFROM:+0000
TZOFFSETTO:+0000
TZNAME:UTC
DTSTART:20240101T000000
END:STANDARD
END:VTIMEZONE
BEGIN:VEVENT
DTSTART;TZID=UTC:20240727T100000
DTEND;TZID=UTC:20240727T170000
DTSTAMP:20260423T120807
CREATED:20240715T190020Z
LAST-MODIFIED:20240723T122356Z
UID:1541-1722074400-1722099600@www.trekkin.pt
SUMMARY:Poços do Rio Adrão
DESCRIPTION:Percurso:\n\n\n\n\n\n\n\nEste trekking curto é ideal para um dia de verão\, para poder desfrutar das aguas límpidas\, cristalinas e regeneradoras do Rio Adrão!Para além de uns bons mergulhos pelo rio\, vamos caminhar por trilhos centenários dos habitantes do Soajo.O trekking inicia-se no largo da feira da Vila do Soajo\, aproveitando pata visitar a Eira do Penedo e os seus centenários espigueiros da comunidade local\, onde atravessando a vila por estreitos caminhos entrando pelos bosques circundantes.Aqui iremos percorrer trilhos seculares da Vila do Soajo\, que ligavam a actual vila á branda da Trapela\, passando por vários pontos de água\, moinhos\, brandas\, poços\, cascatas escondidas na serra pelas margens do rio Adrão.Se fizer o trilho no verão prepare-se para muitos mergulhos! \n\n\n\n\n\n\n\nCaracterísticas: Circular\n\n\n\n\n\n\n\nDistânciaDesnivel +Duração10 km450 mts7 hrs\n\n\n\n\n\n\n\n\n\n\n\n\n\n\n\nGuia:\n\n\n\n\n\n\n\nNome: Ricardo FerreiraTel : +351 919 679 004 \n\n\n\n\n\n\n\nPonto de encontro:\n\n\n\n\n\n\n\nLargo da FeiraSoajo4730 Soajo41\,87184° N\, 8\,26327° O \n\n\n\n\n\n\n\n\n\nNavegar com: \n\n\n\n\n\n\n\n\n\n\n\n\n\n\n\n\n\n\n\n\n\nDeve levar:\n\n\n\n\n\n\n\n\nÁgua.\n\n\n\nAlimentação.\n\n\n\nVestuario apropriado às condições climatéricas.\n\n\n\nCalçado apropriado para caminhada em Montanha.\n\n\n\n\n\n\n\n\nReservas:\n\n\n\n\n\n\n\n\n\n\n\n\n\n\n\nInclui: \n\n\n\n\nGuia no terreno.\n\n\n\nSeguro de acidentes pessoais.\n\n\n\nSeguro de Responsabilidade Civil.\n\n\n\n\n\n\nNão Inclui: \n\n\n\n\nTransporte até ao ponto de encontro.\n\n\n\nOutros não especificamente descritos como incluído.
URL:https://www.trekkin.pt/evento/caminhada-pocos-do-rio-adrao/
CATEGORIES:Caminhada 1 dia
ATTACH;FMTTYPE=image/webp:https://www.trekkin.pt/wp-content/uploads/2024/07/B52DE49F.webp
END:VEVENT
END:VCALENDAR