BEGIN:VCALENDAR
VERSION:2.0
PRODID:-//Trekk in Portugal - ECPv6.10.1.1//NONSGML v1.0//EN
CALSCALE:GREGORIAN
METHOD:PUBLISH
X-WR-CALNAME:Trekk in Portugal
X-ORIGINAL-URL:https://www.trekkin.pt
X-WR-CALDESC:Events for Trekk in Portugal
REFRESH-INTERVAL;VALUE=DURATION:PT1H
X-Robots-Tag:noindex
X-PUBLISHED-TTL:PT1H
BEGIN:VTIMEZONE
TZID:UTC
BEGIN:STANDARD
TZOFFSETFROM:+0000
TZOFFSETTO:+0000
TZNAME:UTC
DTSTART:20240101T000000
END:STANDARD
END:VTIMEZONE
BEGIN:VEVENT
DTSTART;TZID=UTC:20240804T100000
DTEND;TZID=UTC:20240804T180000
DTSTAMP:20260423T104954
CREATED:20240619T173935Z
LAST-MODIFIED:20240621T221023Z
UID:1142-1722765600-1722794400@www.trekkin.pt
SUMMARY:7 Lagoas
DESCRIPTION:Percurso:\n\n\n\n\n\n\n\nEste trekking leva-nos a um dos lugares mais bonitos do Parque Nacional da Peneda Gerês\, os Poços Verdes do Sobroso\, também conhecidos como as sete Lagoas do Xertelo\, ou Poços Verdes do Cabril.O trilho inicia-se e termina na aldeia do Xertelo\, junto ao bar sete lagoas. Caminhando pelo trilho passaremos pelo moinho de cubo vertical de Xertelo\, continuando sempre pelas margens do rio Cabril acima até alcançar a Cascata de Vila Nova\, digna de umas belas fotos.Aqui continuaremos o nosso trekking até as 7 lagoas propriamente ditas. Nas lagoas faremos uma pausa para desfrutar e de seguida atravessaremos para o lado oposto do rio Cabril\, onde retomaremos o trilho no sentido oposto rumo ao Poio das Cabras\, Fojo do Lobo e novamente a Aldeia de Xertelo o nosso ponto de partida. \n\n\n\n\n\n\n\nCaracterísticas: Circular\n\n\n\n\n\n\n\nDistânciaDesnivel +Duração13 km830 mts8 hrs\n\n\n\n\n\n\n\n\n\n\n\n\n\n\n\nGuia:\n\n\n\n\n\n\n\nNome: Ricardo FerreiraTel : +351 919 679 004 \n\n\n\n\n\n\n\nPonto de encontro:\n\n\n\n\n\n\n\nBar 7 LagoasCM 10295470 Cabril41\,73445° N\, 8\,01078° O \n\n\n\n\n\n\n\n\n\nNavegar com: \n\n\n\n\n\n\n\n\n\n\n\n\n\n\n\n\n\n\n\n\n\nDeve levar:\n\n\n\n\n\n\n\n\nÁgua.\n\n\n\nAlimentação.\n\n\n\nVestuario apropriado às condições climatéricas.\n\n\n\nCalçado apropriado para caminhada em Montanha.\n\n\n\n\n\n\n\n\nReservas:\n\n\n\n\n\n\n\n\n\n\n\n\n\n\n\nInclui: \n\n\n\n\nGuia no terreno.\n\n\n\nSeguro de acidentes pessoais.\n\n\n\nSeguro de Responsabilidade Civil.\n\n\n\n\n\n\nNão Inclui: \n\n\n\n\nTransporte até ao ponto de encontro.\n\n\n\nOutros não especificamente descritos como incluído.
URL:https://www.trekkin.pt/evento/trekking-7-lagoas/
CATEGORIES:Caminhada 1 dia
ATTACH;FMTTYPE=image/webp:https://www.trekkin.pt/wp-content/uploads/2024/06/IMG_0418.webp
END:VEVENT
END:VCALENDAR