BEGIN:VCALENDAR
VERSION:2.0
PRODID:-//Trekk in Portugal - ECPv6.10.1.1//NONSGML v1.0//EN
CALSCALE:GREGORIAN
METHOD:PUBLISH
X-ORIGINAL-URL:https://www.trekkin.pt
X-WR-CALDESC:Events for Trekk in Portugal
REFRESH-INTERVAL;VALUE=DURATION:PT1H
X-Robots-Tag:noindex
X-PUBLISHED-TTL:PT1H
BEGIN:VTIMEZONE
TZID:UTC
BEGIN:STANDARD
TZOFFSETFROM:+0000
TZOFFSETTO:+0000
TZNAME:UTC
DTSTART:20240101T000000
END:STANDARD
END:VTIMEZONE
BEGIN:VEVENT
DTSTART;TZID=UTC:20241005T140000
DTEND;TZID=UTC:20241005T180000
DTSTAMP:20260423T074423
CREATED:20240902T201952Z
LAST-MODIFIED:20240929T155745Z
UID:2106-1728136800-1728151200@www.trekkin.pt
SUMMARY:Trilho das Fontes
DESCRIPTION:Descrição:\n\n\n\n\n\n\n\nVamos caminhar em familia por este pequeno percurso pela periferia de Braga?As caminhadas e os passeios ao ar livre são uma das formas mais saudáveis\, simples e agradáveis para se fazer em família\, pois fomenta a ligação entre Pais e filhos\, ao mesmo tempo que se promove a resistência\, agilidade\, redução do stress\, aumento da criatividade e capacidade de concentração e interesse pela Natureza.Nos últimos anos tem-se verificado um aumento do sedentarismo em virtude da falta de exercício físico\, que por sua vez promove a incidência da obesidade atingindo não só os adultos mas também as crianças.Assim o convidamos a trazer os seus familiares para esta mini caminhada! \n\n\n\n\n\n\n\nCaracterísticas: Circular\n\n\n\n\n\n\n\n\n\n\n\n\n\n\n\n\n\n\n\nGuia:\n\n\n\n\n\n\n\nNome: Luis GonzagaTel : +351 927 509 365 \n\n\n\n\n\n\n\nPonto de encontro:\n\n\n\n\n\n\n\nParque LazerRua António dos Santos Palha4710-400 Braga41\,56555° N\, 8\,41079° O \n\n\n\n\n\n\n\n\n\nNavegar com: \n\n\n\n\n\n\n\n\n\n\n\n\n\n\n\n\n\n\n\n\n\nDeve levar:\n\n\n\n\n\n\n\n\nÁgua.\n\n\n\nAlimentação.\n\n\n\nVestuario apropriado às condições climatéricas.\n\n\n\nCalçado apropriado para caminhada em Montanha.\n\n\n\n\n\n\n\n\nReservas:\n\n\n\n\n\n\n\n\n\nESGOTADO \n\n\n\n\n\n\n\nInclui: \n\n\n\n\nGuia no terreno.\n\n\n\nSeguro de acidentes pessoais.\n\n\n\nSeguro de Responsabilidade Civil.\n\n\n\n\n\n\nNão Inclui: \n\n\n\n\nTransporte até ao ponto de encontro.\n\n\n\nOutros não especificamente descritos como incluído.\n\n\n\n\n\n\n\n\n\n\n\n\n\n\n\n\n\n\n\n        Convidar um amigo  \n  \n  
URL:https://www.trekkin.pt/evento/trilho-das-fontes/
CATEGORIES:Caminhada 1 dia
ATTACH;FMTTYPE=image/webp:https://www.trekkin.pt/wp-content/uploads/2024/09/P9020116.webp
END:VEVENT
END:VCALENDAR