BEGIN:VCALENDAR
VERSION:2.0
PRODID:-//Trekk in Portugal - ECPv6.10.1.1//NONSGML v1.0//EN
CALSCALE:GREGORIAN
METHOD:PUBLISH
X-ORIGINAL-URL:https://www.trekkin.pt
X-WR-CALDESC:Events for Trekk in Portugal
REFRESH-INTERVAL;VALUE=DURATION:PT1H
X-Robots-Tag:noindex
X-PUBLISHED-TTL:PT1H
BEGIN:VTIMEZONE
TZID:UTC
BEGIN:STANDARD
TZOFFSETFROM:+0000
TZOFFSETTO:+0000
TZNAME:UTC
DTSTART:20240101T000000
END:STANDARD
END:VTIMEZONE
BEGIN:VEVENT
DTSTART;TZID=UTC:20241006T100000
DTEND;TZID=UTC:20241006T180000
DTSTAMP:20260423T062526
CREATED:20240614T103803Z
LAST-MODIFIED:20240807T201956Z
UID:699-1728208800-1728237600@www.trekkin.pt
SUMMARY:Cume da Varziela
DESCRIPTION:Percurso:\n\n\n\n\n\n\n\nO Trekking do cume da Varziela leva-nos a uma zona bastante selvagem no coração do Parque Nacional Peneda Gerês.Começando esta aventura no Campo do Gerês\, a nossa rota será pela passagem pelo sopé do Pé de Cabril\, passando pela Casa Florestal da Junceda.Aqui iniciaremos parte mais selvagem e de aventura deste percurso\, passando pelas cabanas de Tirolirão\, Mourinho e Varziela\, onde irmos descer e terminar o percurso pela Via Romana.Neste  trekking\, podemos contemplar paisagens raramente vistas pelos demais caminheiros do PNPG\, dado que o trilho não está marcado e muito pouco utilizado.No entanto ao longo desta secção poderemos ter pequenos prados de cortar a respiração\, cheios de flora colorida\, as árvores centenárias e os seus likens que cobram as suas cascas. \n\n\n\n\n\n\n\nCaracterísticas: Circular\n\n\n\n\n\n\n\nDistânciaDesnivel +Duração18\,9 km990 mts8 hrs\n\n\n\n\n\n\n\n\n\n\n\n\n\n\n\nGuia:\n\n\n\n\n\n\n\nNome: Ricardo FerreiraTel : +351 919 679 004 \n\n\n\n\n\n\n\nPonto de encontro:\n\n\n\n\n\n\n\nParque estacionamento4840-030 Campo do Gerês41\,76835° N\, 8\,18851° O \n\n\n\n\n\n\n\n\n\nNavegar com: \n\n\n\n\n\n\n\n\n\n\n\n\n\n\n\n\n\n\n\n\n\nDeve levar:\n\n\n\n\n\n\n\n\nÁgua.\n\n\n\nAlimentação.\n\n\n\nVestuario apropriado às condições climatéricas.\n\n\n\nCalçado apropriado para caminhada em Montanha.\n\n\n\n\n\n\n\n\nReservas:\n\n\n\n\n\n\n\n\n\n\n\n\n\n\n\nInclui: \n\n\n\n\nGuia no terreno.\n\n\n\nSeguro de acidentes pessoais.\n\n\n\nSeguro de Responsabilidade Civil.\n\n\n\n\n\n\nNão Inclui: \n\n\n\n\nTransporte até ao ponto de encontro.\n\n\n\nOutros não especificamente descritos como incluído.
URL:https://www.trekkin.pt/evento/cume-varziela-campo-geres-pnpg/
CATEGORIES:Caminhada 1 dia
ATTACH;FMTTYPE=image/webp:https://www.trekkin.pt/wp-content/uploads/2024/06/IMG_0766.webp
END:VEVENT
END:VCALENDAR