BEGIN:VCALENDAR
VERSION:2.0
PRODID:-//Trekk in Portugal - ECPv6.10.1.1//NONSGML v1.0//EN
CALSCALE:GREGORIAN
METHOD:PUBLISH
X-ORIGINAL-URL:https://www.trekkin.pt
X-WR-CALDESC:Events for Trekk in Portugal
REFRESH-INTERVAL;VALUE=DURATION:PT1H
X-Robots-Tag:noindex
X-PUBLISHED-TTL:PT1H
BEGIN:VTIMEZONE
TZID:UTC
BEGIN:STANDARD
TZOFFSETFROM:+0000
TZOFFSETTO:+0000
TZNAME:UTC
DTSTART:20240101T000000
END:STANDARD
END:VTIMEZONE
BEGIN:VEVENT
DTSTART;TZID=UTC:20241201T090000
DTEND;TZID=UTC:20241201T180000
DTSTAMP:20260423T034035
CREATED:20241016T075316Z
LAST-MODIFIED:20241128T100338Z
UID:2309-1733043600-1733076000@www.trekkin.pt
SUMMARY:Alto da Louriça
DESCRIPTION:Descrição:\n\n\n\n\n\n\n\nDesta vez o desafio é alcançar o ponto mais alto da Serra Amarela\, o Alto da Louriça\, o percurso será feito por meio de trilhos de pastores esquecidos pelos demais\, percorrendo as lindas matas e bosques da serra\, caminhando junto a rios e ribeiros passando por pastos esverdeados e com tons acastanhados típicos desta altura do ano!Vais embarcar nesta aventura? \n\n\n\n\n\n\n\nCaracterísticas: Circular\n\n\n\n\n\n\n\n\n\n\n\n\n\n\n\n\n\n\n\nGuia:\n\n\n\n\n\n\n\nNome: Ricardo FerreiraTel : +351 919 679 004 \n\n\n\n\n\n\n\nPonto de encontro:\n\n\n\n\n\n\n\nCastelo do LindosoLargo do Destro4540 Lindoso41\,86693° N\, 8\,19848° O \n\n\n\n\n\n\n\n\n\nNavegar com: \n\n\n\n\n\n\n\n\n\n\n\n\n\n\n\n\n\n\n\n\n\nDeve levar:\n\n\n\n\n\n\n\n\nÁgua.\n\n\n\nAlimentação.\n\n\n\nVestuario apropriado às condições climatéricas.\n\n\n\nCalçado apropriado para caminhada em Montanha.\n\n\n\n\n\n\n\n\nReservas:\n\n\n\n\n\n\n\n\n\n\n\n\n\n\n\nInclui: \n\n\n\n\nGuia no terreno.\n\n\n\nSeguro de acidentes pessoais.\n\n\n\nSeguro de Responsabilidade Civil.\n\n\n\nCafé e surpresa.\n\n\n\nRecordação de grupo.\n\n\n\nRegisto fotográfico.\n\n\n\n\n\n\nNão Inclui: \n\n\n\n\nTransporte até ao ponto de encontro.\n\n\n\nOutros não especificamente descritos como incluído.\n\n\n\n\n\n\n\n\n\n\n\n\n\n\n\n        Convidar um amigo  \n  \n  
URL:https://www.trekkin.pt/evento/alto-da-lourica/
CATEGORIES:Caminhada 1 dia
ATTACH;FMTTYPE=image/webp:https://www.trekkin.pt/wp-content/uploads/2024/10/IMG_9473.webp
END:VEVENT
END:VCALENDAR