BEGIN:VCALENDAR
VERSION:2.0
PRODID:-//Trekk in Portugal - ECPv6.10.1.1//NONSGML v1.0//EN
CALSCALE:GREGORIAN
METHOD:PUBLISH
X-WR-CALNAME:Trekk in Portugal
X-ORIGINAL-URL:https://www.trekkin.pt
X-WR-CALDESC:Events for Trekk in Portugal
REFRESH-INTERVAL;VALUE=DURATION:PT1H
X-Robots-Tag:noindex
X-PUBLISHED-TTL:PT1H
BEGIN:VTIMEZONE
TZID:Europe/Paris
BEGIN:DAYLIGHT
TZOFFSETFROM:+0100
TZOFFSETTO:+0200
TZNAME:CEST
DTSTART:20240331T010000
END:DAYLIGHT
BEGIN:STANDARD
TZOFFSETFROM:+0200
TZOFFSETTO:+0100
TZNAME:CET
DTSTART:20241027T010000
END:STANDARD
END:VTIMEZONE
BEGIN:VEVENT
DTSTART;TZID=Europe/Paris:20241207T100000
DTEND;TZID=Europe/Paris:20241207T160000
DTSTAMP:20260423T050139
CREATED:20241114T175619Z
LAST-MODIFIED:20241125T121739Z
UID:2547-1733565600-1733587200@www.trekkin.pt
SUMMARY:Socalcos e Brandas de Sistelo
DESCRIPTION:Descrição:\n\n\n\n\n\n\n\nTodos os amantes de caminhadas encontram no Sistelo uma verdadeira meca. É que a pequena aldeia de montanha\, famosa pelos seus arrebatadores socalcos\, guarda alguns dos trilhos mais bonitos de Portugal.Este percurso pedestre circular tem início no centro da Aldeia de Sistelo e conduz-nos até ás Brandas que se encontram a meia encosta da serra. Pelo caminho podemos apreciar os fantásticos socalcos de Sistelo\, que lhe conferiram o título de Monumento Nacional\, atravessar um bosque encantado e usufruir de paisagens de montanha simplesmente arrebatadoras. \n\n\n\n\n\n\n\nCaracterísticas: Circular\n\n\n\n\n\n\n\n\n\n\n\n\n\n\n\n\n\n\n\nGuia:\n\n\n\n\n\n\n\nNome: Ricardo FerreiraTel : +351 919 679 004 \n\n\n\n\n\n\n\nPonto de encontro:\n\n\n\n\n\n\n\nLargo Visconde do Rio Vez\, 1174970-645 SisteloPortugal41\,97370° N\, 8\,37416° O \n\n\n\n\n\n\n\n\n\nNavegar com: \n\n\n\n\n\n\n\n\n\n\n\n\n\n\n\n\n\n\n\n\n\nDeve levar:\n\n\n\n\n\n\n\n\nÁgua.\n\n\n\nAlimentação.\n\n\n\nVestuario apropriado às condições climatéricas.\n\n\n\nCalçado apropriado para caminhada em Montanha.\n\n\n\n\n\n\n\n\nReservas:\n\n\n\n\n\n\n\n\n\n\n\n\n\n\n\nInclui: \n\n\n\n\nGuia no terreno.\n\n\n\nSeguro de acidentes pessoais.\n\n\n\nSeguro de Responsabilidade\n\n\n\nCafé e surpresa.\n\n\n\nRecordação de grupo.\n\n\n\nRegisto fotográfico.\n\n\n\n\n\n\nNão Inclui: \n\n\n\n\nTransporte até ao ponto de encontro.\n\n\n\nOutros não especificamente descritos como incluído.\n\n\n\n\n\n\n\n\n\n\n\n\nExtras:\n\n\n\n\n\n\n\n\n\n\n\n\n\n\n\n\n        Convidar um amigo  \n  \n  
URL:https://www.trekkin.pt/evento/socalcos-e-brandas-de-sistelo/
CATEGORIES:Caminhada 1 dia
ATTACH;FMTTYPE=image/webp:https://www.trekkin.pt/wp-content/uploads/2024/11/DJI_20241113_114636_359.webp
END:VEVENT
END:VCALENDAR