BEGIN:VCALENDAR
VERSION:2.0
PRODID:-//Trekk in Portugal - ECPv6.10.1.1//NONSGML v1.0//EN
CALSCALE:GREGORIAN
METHOD:PUBLISH
X-ORIGINAL-URL:https://www.trekkin.pt
X-WR-CALDESC:Events for Trekk in Portugal
REFRESH-INTERVAL;VALUE=DURATION:PT1H
X-Robots-Tag:noindex
X-PUBLISHED-TTL:PT1H
BEGIN:VTIMEZONE
TZID:UTC
BEGIN:STANDARD
TZOFFSETFROM:+0000
TZOFFSETTO:+0000
TZNAME:UTC
DTSTART:20240101T000000
END:STANDARD
END:VTIMEZONE
BEGIN:VEVENT
DTSTART;TZID=UTC:20241213T190000
DTEND;TZID=UTC:20241213T230000
DTSTAMP:20260423T034050
CREATED:20240927T185519Z
LAST-MODIFIED:20250205T222638Z
UID:2217-1734116400-1734130800@www.trekkin.pt
SUMMARY:Sexta-Feira Medieval
DESCRIPTION:Descrição:\n\n\n\n\n\n\n\nEstás pronto para uma caminhada noturna por trilhos medievais?Os Moinhos\, o Castelo\, as Cabanas\, o Baloiço\, o som da água e a História fazem o cenário desta caminhada\, uma épica sexta-feira 13\, a ultima do ano!Prepara o teu traje medieval\, e vem caminhar e te divertir… esperamos por ti! \n\n\n\n\n\n\n\nCaracterísticas: Circular\n\n\n\n\n\n\n\n\n\n\n\n\n\n\n\n\n\n\n\nGuia:\n\n\n\n\n\n\n\nNome: Ricardo FerreiraTel : +351 919 679 004 \n\n\n\n\n\n\n\nPonto de encontro:\n\n\n\n\n\n\n\nParque do Pontido4830-548 Povoa de Lanhoso41\,57770° N\, 8\,27013° O \n\n\n\n\n\n\n\n\n\nNavegar com: \n\n\n\n\n\n\n\n\n\n\n\n\n\n\n\n\n\n\n\n\n\nDeve levar:\n\n\n\n\n\n\n\n\nÁgua.\n\n\n\nAlimentação.\n\n\n\nVestuario apropriado às condições climatéricas.\n\n\n\nCalçado apropriado para caminhada em Montanha.\n\n\n\n\n\n\n\n\nReservas:\n\n\n\n\n\n\n\n\n\n\n\n\n\n\n\nInclui: \n\n\n\n\nGuia no terreno.\n\n\n\nSeguro de acidentes pessoais.\n\n\n\nSeguro de Responsabilidade Civil.\n\n\n\nCafé e surpresa.\n\n\n\nRecordação de grupo.\n\n\n\nRegisto fotográfico.\n\n\n\n\n\n\nNão Inclui: \n\n\n\n\nTransporte até ao ponto de encontro.\n\n\n\nOutros não especificamente descritos como incluído.\n\n\n\n\n\n\n\n\n\n\n\n\n\n\n\n        Convidar um amigo  \n  \n  
URL:https://www.trekkin.pt/evento/sexta-feira-medieval/
CATEGORIES:Caminhada 1 dia
ATTACH;FMTTYPE=image/webp:https://www.trekkin.pt/wp-content/uploads/2024/09/dji_fly_20240927_143334_570_1727444359811_photo_optimized.webp
END:VEVENT
END:VCALENDAR