BEGIN:VCALENDAR
VERSION:2.0
PRODID:-//Trekk in Portugal - ECPv6.10.1.1//NONSGML v1.0//EN
CALSCALE:GREGORIAN
METHOD:PUBLISH
X-WR-CALNAME:Trekk in Portugal
X-ORIGINAL-URL:https://www.trekkin.pt
X-WR-CALDESC:Events for Trekk in Portugal
REFRESH-INTERVAL;VALUE=DURATION:PT1H
X-Robots-Tag:noindex
X-PUBLISHED-TTL:PT1H
BEGIN:VTIMEZONE
TZID:Europe/Paris
BEGIN:DAYLIGHT
TZOFFSETFROM:+0100
TZOFFSETTO:+0200
TZNAME:CEST
DTSTART:20250330T010000
END:DAYLIGHT
BEGIN:STANDARD
TZOFFSETFROM:+0200
TZOFFSETTO:+0100
TZNAME:CET
DTSTART:20251026T010000
END:STANDARD
END:VTIMEZONE
BEGIN:VEVENT
DTSTART;TZID=Europe/Paris:20250223T090000
DTEND;TZID=Europe/Paris:20250223T180000
DTSTAMP:20260423T004429
CREATED:20241128T103017Z
LAST-MODIFIED:20250226T180647Z
UID:2795-1740301200-1740333600@www.trekkin.pt
SUMMARY:Hardtrekking de Pincães
DESCRIPTION:Descrição:\n\n\n\n\n\n\n\nContinuando a senda dos maravilhosos e desafiantes HardTrekkings da Trekkin… o proximo terá lugar em Terras de Barroso\, e escolhido a dedo pelos melhores trilhos da Serra passando por locais magnificos\, visitando Fojos\, Silhas e no Final uma lindíssima cascata para refrescar!!Estás preparado para o segundo de quatro dos mais belos Hardtrekkings de Portugal?Esta serie será limitada a 10 participantes em cada edição! \n\n\n\n\n\n\n\nCaracterísticas: Circular\n\n\n\n\n\n\n\n\n\n\n\n\n\n\n\n\n\n\n\nGuia:\n\n\n\n\n\n\n\nNome: Ricardo FerreiraTel : +351 919 679 004 \n\n\n\n\n\n\n\nPonto de encontro:\n\n\n\n\n\n\n\nParque estacionamentoRua de Nossa Sra da Abadia 105470-020 Cabril41\,70663° N\, 8\,05104° O \n\n\n\n\n\n\n		\n        \n        \n\n\n\n\n\n\n\n\nNavegar com: \n\n\n\n\n\n\n\n\n\n\n\n\n\n\n\n\n\n\n\n\n\nDeve levar:\n\n\n\n\n\n\n\n\nÁgua.\n\n\n\nAlimentação.\n\n\n\nVestuario apropriado às condições climatéricas.\n\n\n\nCalçado apropriado para caminhada em Montanha.\n\n\n\n\n\n\n\n\nReservas:\n\n\n\n\n\n\n\n\n\n\n\n\n\n\n\nInclui: \n\n\n\n\nGuia no terreno.\n\n\n\nSeguro de acidentes pessoais.\n\n\n\nSeguro de Responsabilidade\n\n\n\nRecordação de grupo\n\n\n\nRegisto fotográfico\n\n\n\n\n\n\nNão Inclui: \n\n\n\n\nTransporte até ao ponto de encontro.\n\n\n\nOutros não especificamente descritos como incluído.\n\n\n\n\n\n\n\n\nTransporte:\n\n\n\n\n\n\n\n\n\n\n\n\n\nOnde ficar:\n\n\n\n\n\n\n\nVisitar a Casa Colina\n\n\n\n\n\n\n\n\n\n\n\n\n\nVisitar a Casa Lobos\n\n\n\n\n\n\n\n\n\n\n\n\n        Convidar um amigo  \n  \n  
URL:https://www.trekkin.pt/evento/hardtrekking-de-pincaes/
CATEGORIES:Caminhada 1 dia
ATTACH;FMTTYPE=image/webp:https://www.trekkin.pt/wp-content/uploads/2024/11/DJI_20241127_163933_163.webp
END:VEVENT
END:VCALENDAR