BEGIN:VCALENDAR
VERSION:2.0
PRODID:-//Trekk in Portugal - ECPv6.10.1.1//NONSGML v1.0//EN
CALSCALE:GREGORIAN
METHOD:PUBLISH
X-ORIGINAL-URL:https://www.trekkin.pt
X-WR-CALDESC:Events for Trekk in Portugal
REFRESH-INTERVAL;VALUE=DURATION:PT1H
X-Robots-Tag:noindex
X-PUBLISHED-TTL:PT1H
BEGIN:VTIMEZONE
TZID:Europe/Paris
BEGIN:DAYLIGHT
TZOFFSETFROM:+0100
TZOFFSETTO:+0200
TZNAME:CEST
DTSTART:20250330T010000
END:DAYLIGHT
BEGIN:STANDARD
TZOFFSETFROM:+0200
TZOFFSETTO:+0100
TZNAME:CET
DTSTART:20251026T010000
END:STANDARD
END:VTIMEZONE
BEGIN:VEVENT
DTSTART;TZID=Europe/Paris:20250302T100000
DTEND;TZID=Europe/Paris:20250302T170000
DTSTAMP:20260422T230855
CREATED:20250116T183311Z
LAST-MODIFIED:20250303T184201Z
UID:3386-1740909600-1740934800@www.trekkin.pt
SUMMARY:Pontes da II Invasão Francesa
DESCRIPTION:Descrição:\n\n\n\n\n\n\n\nEste percurso de pequena rota circular adaptada ao trilho original que é Linear\, tendo como inicio e fim na Freguesia de Ruivães. Tem uma extensão aproximada de 16\,9 km\, com uma duração de cerca de 6h. Trata-se de um percurso que poderá ser realizado em qualquer altura do ano\, apesar da sua exposição. Apresenta ao longo do seu traçado vários pontos de interesse cultural\, histórico\, patrimonial e natural. \n\n\n\n\n\n\n\nCaracterísticas: Circular\n\n\n\n\n\n\n\n\n\n\n\n\n\n\n\n\n\n\n\nGuia:\n\n\n\n\n\n\n\nNome: Ricardo FerreiraTel : +351 919 679 004 \n\n\n\n\n\n\n\nPonto de encontro:\n\n\n\n\n\n\n\nN 1034850 Ruivães41\,68068° N\, 8\,04944° O \n\n\n\n\n\n\n		\n        \n        \n\n\n\n\n\n\n\n\nNavegar com: \n\n\n\n\n\n\n\n\n\n\n\n\n\n\n\n\n\n\n\n\n\nDeve levar:\n\n\n\n\n\n\n\n\nÁgua.\n\n\n\nAlimentação.\n\n\n\nVestuario apropriado às condições climatéricas.\n\n\n\nCalçado apropriado para caminhada em Montanha.\n\n\n\n\n\n\n\n\nReservas:\n\n\n\n\n\n\n\n\n\n\n\n\n\n\n\nInclui: \n\n\n\n\nGuia no terreno.\n\n\n\nSeguro de acidentes pessoais.\n\n\n\nSeguro de Responsabilidade\n\n\n\nCafé e sobremesa\n\n\n\nRecordação de grupo\n\n\n\nRegisto fotográfico\n\n\n\n\n\n\nNão Inclui: \n\n\n\n\nTransporte até ao ponto de encontro.\n\n\n\nOutros não especificamente descritos como incluído.\n\n\n\n\n\n\n\n\n\n\n\n\nTransporte:\n\n\n\n\n\n\n\n\n\n\n\n\n\n\n\n\n        Convidar um amigo  \n  \n  
URL:https://www.trekkin.pt/evento/pontes-da-ii-invasao-francesa/
CATEGORIES:Caminhada 1 dia
ATTACH;FMTTYPE=image/webp:https://www.trekkin.pt/wp-content/uploads/2024/06/IMG_3786-1.webp
END:VEVENT
END:VCALENDAR