BEGIN:VCALENDAR
VERSION:2.0
PRODID:-//Trekk in Portugal - ECPv6.10.1.1//NONSGML v1.0//EN
CALSCALE:GREGORIAN
METHOD:PUBLISH
X-ORIGINAL-URL:https://www.trekkin.pt
X-WR-CALDESC:Events for Trekk in Portugal
REFRESH-INTERVAL;VALUE=DURATION:PT1H
X-Robots-Tag:noindex
X-PUBLISHED-TTL:PT1H
BEGIN:VTIMEZONE
TZID:Europe/Paris
BEGIN:DAYLIGHT
TZOFFSETFROM:+0100
TZOFFSETTO:+0200
TZNAME:CEST
DTSTART:20250330T010000
END:DAYLIGHT
BEGIN:STANDARD
TZOFFSETFROM:+0200
TZOFFSETTO:+0100
TZNAME:CET
DTSTART:20251026T010000
END:STANDARD
END:VTIMEZONE
BEGIN:VEVENT
DTSTART;TZID=Europe/Paris:20250727T093000
DTEND;TZID=Europe/Paris:20250727T183000
DTSTAMP:20260422T174250
CREATED:20250626T074601Z
LAST-MODIFIED:20250626T105650Z
UID:4143-1753608600-1753641000@www.trekkin.pt
SUMMARY:Piscinas naturais do rio Toco
DESCRIPTION:Descrição:\n\n\n\n\n\n\n\nEste verão\, junta-te à Trekkin para um evento exclusivo nas piscinas naturais do Rio Toco\, em Fafião\, no coração do Parque Nacional Peneda Gerês!Prepara-te para um dia repleto de aventura\, mergulhos em águas cristalinas\, paisagens de cortar a respiração e momentos únicos em plena natureza. \n\n\n\n\n\n\n\nCaracterísticas: Circular\n\n\n\n\n\n\n\n\n\n\n\n\n\n\n\n\n\n\n\nGuia:\n\n\n\n\n\n\n\nNome: Ricardo FerreiraTel : +351 919 679 004 \n\n\n\n\n\n\n\nPonto de encontro e parceiros locais:\n\n\n\n\n\n\n\nMiradouro de Fafião5470-017 Cabril41\,70654° N\, 8\,08954° O \n\n\n\n\n\n\n		\n        \n        \n\n\n\n\n\n\n\n\nNavegar com: \n\n\n\n\n\n\n\n\n\n\n\n\n\n\n\n\n\n\n\n\n\nDeve levar:\n\n\n\n\n\n\n\n\nÁgua.\n\n\n\nAlimentação.\n\n\n\nVestuario apropriado às condições climatéricas.\n\n\n\nCalçado apropriado para caminhada em Montanha.\n\n\n\n\n\n\n\n\nReservas:\n\n\n\n\n\n\n\n\n\n\n\n\n\n\n\nInclui: \n\n\n\n\nGuia no terreno.\n\n\n\nSeguro de acidentes pessoais.\n\n\n\nSeguro de Responsabilidade.\n\n\n\nRegisto fotográfico.\n\n\n\n\n\n\nNão Inclui: \n\n\n\n\nTransporte até ao ponto de encontro.\n\n\n\nOutros não especificamente descritos como incluído.\n\n\n\n\n\n\n\n\n\n\n\n\n\n\n\n        Convidar um amigo  \n  \n  
URL:https://www.trekkin.pt/evento/piscinas-naturais-rio-toco-fafiao-geres/
CATEGORIES:Caminhada 1 dia
ATTACH;FMTTYPE=image/webp:https://www.trekkin.pt/wp-content/uploads/2025/06/DJI_20250622_133337_640-e1750794893635.webp
END:VEVENT
END:VCALENDAR