BEGIN:VCALENDAR
VERSION:2.0
PRODID:-//Trekk in Portugal - ECPv6.10.1.1//NONSGML v1.0//EN
CALSCALE:GREGORIAN
METHOD:PUBLISH
X-WR-CALNAME:Trekk in Portugal
X-ORIGINAL-URL:https://www.trekkin.pt
X-WR-CALDESC:Events for Trekk in Portugal
REFRESH-INTERVAL;VALUE=DURATION:PT1H
X-Robots-Tag:noindex
X-PUBLISHED-TTL:PT1H
BEGIN:VTIMEZONE
TZID:UTC
BEGIN:STANDARD
TZOFFSETFROM:+0000
TZOFFSETTO:+0000
TZNAME:UTC
DTSTART:20240101T000000
END:STANDARD
END:VTIMEZONE
BEGIN:VEVENT
DTSTART;TZID=UTC:20240905T080000
DTEND;TZID=UTC:20240908T180000
DTSTAMP:20260423T075258
CREATED:20240809T081510Z
LAST-MODIFIED:20240829T151247Z
UID:1771-1725523200-1725818400@www.trekkin.pt
SUMMARY:Sra. da Peneda - Etapas
DESCRIPTION:Descrição:\n\n\n\n\n\n\n\nÉ num “ambiente de montanha\, espiritual e religioso”\, em pleno Parque Nacional da Peneda Gerês\, que tudo se conjuga no Santuário da Senhora da Peneda\, situado na Paróquia de Gavieira\, no Arciprestado de Arcos de Valdevez\, para acolher uma das grandes festas da Diocese de Viana do Castelo: a Romaria da Nossa Senhora da Peneda. \n\n\n\nEntre os dias 31 de agosto e 8 de setembro\, a Romaria traz milhares de peregrinos até ao alto da montanha\, entre eles\, galegos.Nos tempos antigos a Romaria tinha lugar em Agosto\, atualmente\, a romaria a N. S. da Peneda decorre entre os dias 1 a 8 de Setembro. A partir de 31 de Agosto e até 8 de Setembro\, depois das 5 horas da tarde\, realiza-se o terço cantado\, percorrendo as capelas da escadaria do santuário. Nos dias 6 de Setembro os populares cantam e dançam ao som das concertinas durante toda a noite\, até às 7 horas da manhã. É considerada uma das mais concorridas romarias de Portugal.A festividade assenta num espaço natural e arquitetónico de beleza universal\, com um magnífico afloramento rochoso de grande dimensão\, uma queda de água e uma envolvente paisagística natural assombrosa\, onde o belíssimo templo do século XVIII/XIX e o seu escadório de 20 capelas temáticas formam um todo de inigualável caracterização\, dentro do espaço privilegiado do único Parque Nacional português: A Peneda-Gerês. \n\n\n\n\nVer historia N.S. da Peneda\n\n\n\n\n\n\n\n\nCaracterísticas: Linear\n\n\n\n\n\n\n\n\n\n\n\nEtapa 1 : Braga – Goães\n\n\n\nEtapa 2 : Goães – Ponte da Barca\n\n\n\nEtapa 3 : Ponte da Barca – Soajo\n\n\n\nEtapa 4 : Soajo – Peneda\n\n\n\n\n\n\n\nGuia:\n\n\n\n\n\n\n\nNome: Ricardo FerreiraTel : +351 919 679 004 \n\n\n\n\n\n\n\nPonto de encontro:\n\n\n\n\n\n\n\nSé Catedral de Braga4700-417 Braga1\,54993° N\, 8\,42741° O \n\n\n\n\n\n\n\n\n\nNavegar com: \n\n\n\n\n\n\n\n\n\n\n\n\n\n\n\n\n\n\n\n\n\nDeve levar:\n\n\n\n\n\n\n\n\nÁgua.\n\n\n\nAlimentação.\n\n\n\nVestuario apropriado às condições climatéricas.\n\n\n\nCalçado apropriado para caminhada em Montanha.\n\n\n\n\n\n\n\n\nReservas:\n\n\n\n\n\n\n\n\n\n\n\n\n\n\n\nInclui: \n\n\n\n\nGuia no terreno.\n\n\n\nSeguro de acidentes pessoais.\n\n\n\nSeguro de Responsabilidade Civil.\n\n\n\n\n\n\nNão Inclui: \n\n\n\n\nTransporte até ao ponto de encontro.\n\n\n\nOutros não especificamente descritos como incluído.\n\n\n\n\n\n\n\n\n\n\n\n\nApós registo da Reserva\, indique-nos quais as etapas/alojamento/extras que deseja. \n\n\n\n\n\n\n\n\n\n\n\n\n\n\n\n\n        Convidar um amigo  \n  \n  
URL:https://www.trekkin.pt/evento/sra-da-peneda-etapas/
CATEGORIES:Caminhada 4 dias
ATTACH;FMTTYPE=image/webp:https://www.trekkin.pt/wp-content/uploads/2024/06/IMG_5767.webp
END:VEVENT
END:VCALENDAR